BEGIN:VCALENDAR
VERSION:2.0
PRODID:-//wp-events-plugin.com//7.2.3.1//EN
TZID:Europe/Berlin
X-WR-TIMEZONE:Europe/Berlin
BEGIN:VEVENT
UID:107@af-werlte.de
DTSTART;TZID=Europe/Berlin;VALUE=DATE:20260603
DTEND;TZID=Europe/Berlin;VALUE=DATE:20260604
DTSTAMP:20260210T194154Z
URL:https://www.af-werlte.de/?event=spargelessen-mittwoch-03-06-2026-mit-d
 er-bitte-um-vorkasse
SUMMARY:Spargelessen - Mittwoch 03.06.2026 - MIT DER BITTE UM VORKASSE
DESCRIPTION:&nbsp\;\n\nSpargelessen mit Kneipenquiz\nIn Holte erwartet dich
  ein leckeres Spargelbuffet\, kombiniert mit einem lustigen Kneipenquiz. F
 reu dich auf gutes Essen und knifflige Fragen in geselliger Runde. Außerd
 em warten coole Gewinne auf dich!\n&nbsp\;\nDatum: Mittwoch 03.06.2026\n\n
 NEU - NEU - NEU: Treffpunkt: Busbahnhof\, Lerchenweg\, Werlte NEU - NEU - 
 NEU\n\nAbfahrt: 18:00 Uhr\n\nKosten für Spargelbuffet\, Kneipenquiz und B
 usfahrt: pro Person 45€\nNichtmitglieder zahlen einen Aufpreis von 10\,0
 0 €\n\nAus organisatorischen Gründen bitten wir um Zahlung per VORKASSE
  innerhalb von einer Woche nach Anmeldung auf das Konto der Aktiven Frauen
  Werlte\nIBAN DE04 2806 9381 0005 2086 00\n\nAnmeldeschluss ist der 23.05.
 2026\n\nFür die Registrierung zur Veranstaltung ist zwingend die Eingabe 
 einer E-Mail Adresse erforderlich. Auf die E-Mail Adresse erfolgt die erfo
 lgreiche Bestätigung der Anmeldung.\n\nBitte auch die Telefonnummer angeb
 en\n\nWICHTIG: Zuerst den NACHNAMEN und dann den VORNAMEN eintragen! - Di
 es erleichtert später die Erstellung von Teilnehmerlisten.
CATEGORIES:Veranstaltung
END:VEVENT
BEGIN:VEVENT
UID:108@af-werlte.de
DTSTART;TZID=Europe/Berlin;VALUE=DATE:20260617
DTEND;TZID=Europe/Berlin;VALUE=DATE:20260618
DTSTAMP:20260204T132238Z
URL:https://www.af-werlte.de/?event=fahrradtour-mittwoch-17-06-2026
SUMMARY:Fahrradtour - Mittwoch 17.06.2026
DESCRIPTION:&nbsp\;\n\nÜberraschungsfahrradtour\nSchwing dich aufs Rad und
  genieße eine leichte Tour (ca. 30-35 km) mit einem leckeren Zwischenstop
 p!\n&nbsp\;\nDatum: Mittwoch 17.06.2026\n\nTreffpunkt: Marktplatz Werlte\n
 \nAbfahrt: 15:00 Uhr\n\nWenn die maximale Teilnehmerzahl erreicht ist\, wi
 rd die Buchung automatisch geschlossen. Wir richten dann eine Warteliste e
 in.\n\nAnmeldeschluss ist der 08.06.2026\n\nBitte beachtet\, dass der Anme
 ldeschluss auch gleichzeitig Abmeldeschluss ist. Bei einer Abmeldung nach 
 diesem Datum müssen die anfallenden Kosten getragen werden\, wenn sich ke
 in Ersatz findet...\n\n&nbsp\;\n\nFür die Registrierung zur Veranstaltung
  ist zwingend die Eingabe einer E-Mail Adresse erforderlich. Auf die E-Mai
 l Adresse erfolgt die erfolgreiche Bestätigung der Anmeldung.\n\nBitte au
 ch die Telefonnummer angeben\n\nWICHTIG: Zuerst den NACHNAMEN und dann den
  VORNAMEN eintragen! - Dies erleichtert später die Erstellung von Teilne
 hmerlisten.
CATEGORIES:Veranstaltung
END:VEVENT
BEGIN:VEVENT
UID:110@af-werlte.de
DTSTART;TZID=Europe/Berlin;VALUE=DATE:20260617
DTEND;TZID=Europe/Berlin;VALUE=DATE:20260618
DTSTAMP:20260209T133315Z
URL:https://www.af-werlte.de/?event=warteliste-fahrradtour-mittwoch-17-06-
 2026
SUMMARY:WARTELISTE Fahrradtour - Mittwoch 17.06.2026
DESCRIPTION:&nbsp\;\n\nWarteliste für die Überraschungsfahrradtour\nSchwi
 ng dich aufs Rad und genieße eine leichte Tour (ca. 30-35 km) mit einem l
 eckeren Zwischenstopp!\n\nWir kontaktieren dich\, wenn du von der Wartelis
 te nachrücken kannst...\n&nbsp\;\nDatum: Mittwoch 17.06.2026\n\nTreffpunk
 t: Marktplatz Werlte\n\nAbfahrt: 15:00 Uhr\n\nFür die Registrierung zur V
 eranstaltung ist zwingend die Eingabe einer E-Mail Adresse erforderlich. A
 uf die E-Mail Adresse erfolgt die erfolgreiche Bestätigung der Anmeldung.
 \n\nBitte auch die Telefonnummer angeben\n\nWICHTIG: Zuerst den NACHNAMEN 
 und dann den VORNAMEN eintragen! - Dies erleichtert später die Erstellun
 g von Teilnehmerlisten.
CATEGORIES:Veranstaltung
END:VEVENT
BEGIN:VTIMEZONE
TZID:Europe/Berlin
X-LIC-LOCATION:Europe/Berlin
BEGIN:DAYLIGHT
DTSTART:20260329T030000
TZOFFSETFROM:+0100
TZOFFSETTO:+0200
TZNAME:CEST
END:DAYLIGHT
END:VTIMEZONE
END:VCALENDAR